BEGIN:VCALENDAR
VERSION:2.0
PRODID:-//Coder College - ECPv5.3.2.1//NONSGML v1.0//EN
CALSCALE:GREGORIAN
METHOD:PUBLISH
X-WR-CALNAME:Coder College
X-ORIGINAL-URL:https://codercollege.com.au
X-WR-CALDESC:Events for Coder College
BEGIN:VTIMEZONE
TZID:Australia/Hobart
BEGIN:STANDARD
TZOFFSETFROM:+1100
TZOFFSETTO:+1000
TZNAME:AEST
DTSTART:20210403T160000
END:STANDARD
BEGIN:DAYLIGHT
TZOFFSETFROM:+1000
TZOFFSETTO:+1100
TZNAME:AEDT
DTSTART:20211002T160000
END:DAYLIGHT
END:VTIMEZONE
BEGIN:VEVENT
DTSTART;TZID=Australia/Hobart:20210510T154500
DTEND;TZID=Australia/Hobart:20210621T171500
DTSTAMP:20210301T142319
CREATED:20201222T021704Z
LAST-MODIFIED:20201222T021704Z
UID:2397-1620661500-1624295700@codercollege.com.au
SUMMARY:YouTuber (Monday) - Term 2 2021 (Friends)
DESCRIPTION:6 Sessions: 3:45pm to 5:15pm\nNB: This course is open to any student \n  \nWant to set up your very own YouTube channel?\nIn you have a passion for making films and want to share them with others then this is the course for you.\n  \nIn this course we cover how to start your very own YouTube channel. From setting up accounts (with security settings)\, using professional editing software\, through to planning\, shooting and editing their own videos. \nLevels Available: (Each level is a separate enrolment and takes 2 Full days to complete.) \n\nLevel 101\nIntroducing YouTube channels\, we go through the basics of setting up a YouTube channel. From making it secure\, learning about copyright and staying safe online. In this course they will learn the basics of  planning their own videos\, shooting the footage and editing the final product to be shared on their very own channel through fun and easy to learn tasks. Let’s have them learning new skills and making videos rather than simply watching other peoples.
URL:https://codercollege.com.au/calendar/yt-friends-2021/
LOCATION:Friends School\, 23 Commercial Road\, North Hobart\, Tasmania\, 7000\, Australia
CATEGORIES:Youtuber
ATTACH;FMTTYPE=image/png:https://codercollege.com.au/wp-content/uploads/2020/09/youtubers.png
ORGANIZER;CN="Coder%20College%20Pty%20Ltd":MAILTO:hello@codercollege.com.au
END:VEVENT
END:VCALENDAR