BEGIN:VCALENDAR
VERSION:2.0
PRODID:-//Coder College - ECPv5.3.2.1//NONSGML v1.0//EN
CALSCALE:GREGORIAN
METHOD:PUBLISH
X-WR-CALNAME:Coder College
X-ORIGINAL-URL:https://codercollege.com.au
X-WR-CALDESC:Events for Coder College
BEGIN:VTIMEZONE
TZID:Australia/Hobart
BEGIN:STANDARD
TZOFFSETFROM:+1100
TZOFFSETTO:+1000
TZNAME:AEST
DTSTART:20210403T160000
END:STANDARD
BEGIN:DAYLIGHT
TZOFFSETFROM:+1000
TZOFFSETTO:+1100
TZNAME:AEDT
DTSTART:20211002T160000
END:DAYLIGHT
END:VTIMEZONE
BEGIN:VEVENT
DTSTART;TZID=Australia/Hobart:20210216T144500
DTEND;TZID=Australia/Hobart:20210323T161500
DTSTAMP:20210301T141951
CREATED:20201221T023634Z
LAST-MODIFIED:20210215T073633Z
UID:2306-1613486700-1616516100@codercollege.com.au
SUMMARY:Intro to Movie Making (Tuesday) - Term 1 2021 (Cambridge Primary)
DESCRIPTION:6 Sessions: 2:45pm to 4:15pm\nLevels Available: Level 1\, Level 2\, Level 3\, Level 4\nNB: This course is only open to Cambridge Primary School students \nThis course is for the budding film maker who wants their own home videos or short films. If they have a passion for making films then this is the course for them.\nLevels Available: (Each level is a separate enrolment and takes 2 Full days to complete.) \n\n\nIntro to Movie Making Level 101\nIntroducing the basic concepts of film making through fun and easy to learn tasks. This course focuses on introducing filming and editing techniques using everyday videoing devices. Here they will learn the basics of filming\, exporting footage\, editing\, inserting text and adding special effects.\n\n\n\n\nIntro to Movie Making Level 102\nHere we continue developing their understanding of Movie Making through the use of more complex special effects. Lightsaber and super speed are just some of the topics covered in this level.\n\n\n\n\nIntro to Movie Making Level 103\nHere we look at more complex special effects such as exploring the world of green screens and the amazing outcomes that can be achieved such as the superman effect.\n\n\n\n\nIntro to Movie Making Level 104\nThe final level of out “Intro to Movie Making” course\, here they have the opportunity to create of their very own short film. They will learn about how to plan their very own movie with story-boarding\, lighting\, camera angles\, etc\, before going through and filming it. Based on their own ideas and skills these individually conceived videos are a great way in which to wrap up and display what they have learnt throughout this course.
URL:https://codercollege.com.au/calendar/i2mm-cps-2021/
LOCATION:Cambridge Primary School\, 976 Cambridge Rd\, Cambridge\, TAS\, 7170\, Australia
CATEGORIES:Intro to Movie Making
ATTACH;FMTTYPE=image/jpeg:https://codercollege.com.au/wp-content/uploads/2019/09/Coder-College-Course-Icon-Red5.jpg
ORGANIZER;CN="Coder%20College%20Pty%20Ltd":MAILTO:hello@codercollege.com.au
END:VEVENT
END:VCALENDAR