BEGIN:VCALENDAR
VERSION:2.0
PRODID:-//Coder College - ECPv5.3.2.1//NONSGML v1.0//EN
CALSCALE:GREGORIAN
METHOD:PUBLISH
X-WR-CALNAME:Coder College
X-ORIGINAL-URL:https://codercollege.com.au
X-WR-CALDESC:Events for Coder College
BEGIN:VTIMEZONE
TZID:Australia/Hobart
BEGIN:STANDARD
TZOFFSETFROM:+1100
TZOFFSETTO:+1000
TZNAME:AEST
DTSTART:20210403T160000
END:STANDARD
BEGIN:DAYLIGHT
TZOFFSETFROM:+1000
TZOFFSETTO:+1100
TZNAME:AEDT
DTSTART:20211002T160000
END:DAYLIGHT
END:VTIMEZONE
BEGIN:VEVENT
DTSTART;TZID=Australia/Hobart:20210803T144500
DTEND;TZID=Australia/Hobart:20210907T161500
DTSTAMP:20210301T142048
CREATED:20201222T031215Z
LAST-MODIFIED:20201222T031215Z
UID:2415-1628001900-1631031300@codercollege.com.au
SUMMARY:Intro to Coding (Tuesday) - Term 3 2021 (Cambridge Primary)
DESCRIPTION:6 Sessions: 2:45pm to 4:15pm\nLevels Available: Level 1\, Level 2\, Level 3\, Level 4\nNB: This course is only open to Cambridge Primary School students \n  \nA great starting course in to the world of coding for the child with no previous (or limited) experience.\nLevels Available: (Each level is a separate enrolment.) \n\n\nLevel 101\nIntroducing the basic concepts of coding in a fun and easy to learn format. This course will tap into your child’s creativity and problem solving abilities. Here they will make animations\, music players and create multiple games.  Be amazed with what your child can achieve.\n\n\n\n\nLevel 102\nBuilding on the skills developed in the previous course\, here we dive in to complex animated stories. Creating animated characters\, scene design\, story writing and more\, your child’s skills and love of coding will grow as they create some amazing animated stories.\n\n\n\n\nLevel 103\nFocusing on the creation of 4 different games in this course we are continuing to build on the knowledge gained in the previous courses. Creating such games as space invaders\, snake and more\, this course will have your child’s understanding of coding grow further as they make some amazing games.\n\n\n\n\nLevel 104\nThis is the final of our “Intro to Coding” courses. This course will bring together all the elements that they have learnt over the past three courses and have them create an amazing platformer game of their own design.
URL:https://codercollege.com.au/calendar/i2c-cps-2021/
LOCATION:Cambridge Primary School\, 976 Cambridge Rd\, Cambridge\, TAS\, 7170\, Australia
CATEGORIES:Intro to Coding
ATTACH;FMTTYPE=image/jpeg:https://codercollege.com.au/wp-content/uploads/2019/09/Coder-College-Course-Icon-Red.jpg
ORGANIZER;CN="Coder%20College%20Pty%20Ltd":MAILTO:hello@codercollege.com.au
END:VEVENT
END:VCALENDAR