BEGIN:VCALENDAR
VERSION:2.0
PRODID:-//Coder College - ECPv5.3.2.1//NONSGML v1.0//EN
CALSCALE:GREGORIAN
METHOD:PUBLISH
X-WR-CALNAME:Coder College
X-ORIGINAL-URL:https://codercollege.com.au
X-WR-CALDESC:Events for Coder College
BEGIN:VTIMEZONE
TZID:Australia/Hobart
BEGIN:STANDARD
TZOFFSETFROM:+1100
TZOFFSETTO:+1000
TZNAME:AEST
DTSTART:20210403T160000
END:STANDARD
BEGIN:DAYLIGHT
TZOFFSETFROM:+1000
TZOFFSETTO:+1100
TZNAME:AEDT
DTSTART:20211002T160000
END:DAYLIGHT
END:VTIMEZONE
BEGIN:VEVENT
DTSTART;TZID=Australia/Hobart:20211026T144500
DTEND;TZID=Australia/Hobart:20211130T161500
DTSTAMP:20210301T142106
CREATED:20201222T031203Z
LAST-MODIFIED:20201222T031203Z
UID:2418-1635259500-1638288900@codercollege.com.au
SUMMARY:Hacking Minecraft (Tuesday) - Term 4 2021 (Cambridge Primary)
DESCRIPTION:6 Sessions: 2:45pm to 4:15pm\nLevels Available: Level 1\, Level 2\, Level 3\, Level 4\nNB: This course is only open to Cambridge Primary School students \n  \nLearn how to build structures\, create games and manipulate the world of Minecraft through the power of code.\n  \nLevels Available: (Each level is a separate enrolment.) \n\n\nLevel 201\nIntroducing the basic concepts of Python coding in Minecraft through fun and easy to learn tasks. This course will have them creating basic games\, build bridges and change worlds through the language of Python.\n\n\n\n\nLevel 202\nHere we continue  to gain a deeper understanding of how the Python code can manipulate the Minecraft world. We will cover how to utilise more of the Minecraft modules to import images\, generate amazing 3D objects and complex buildings\, in to their very own Minecraft world.\n\n\n\n\nLevel 203\nAs we build on the skills and knowledge gained so far\, we dive further in to Python code with new challenges such as teleportation\, games\, interactive dance floors and creating forests at the push of a button just to name a few.\n\n\n\n\nLevel 204\nThe final part of the Hacking Minecraft levels\, has your child pushing the boundaries of what they have learnt so far. They will be coding things from stair cases and pyramids right through to cities filled with houses and interactive haunted mansions. An exciting way in which to wrap up and display what they have learnt throughout the levels.
URL:https://codercollege.com.au/calendar/hm-cps-2021/
LOCATION:Cambridge Primary School\, 976 Cambridge Rd\, Cambridge\, TAS\, 7170\, Australia
CATEGORIES:Hacking Minecraft
ATTACH;FMTTYPE=image/jpeg:https://codercollege.com.au/wp-content/uploads/2019/12/Intermediate_Hacking_Minecraft.jpg
ORGANIZER;CN="Coder%20College%20Pty%20Ltd":MAILTO:hello@codercollege.com.au
END:VEVENT
END:VCALENDAR