BEGIN:VCALENDAR
VERSION:2.0
PRODID:-//Coder College - ECPv5.3.2.1//NONSGML v1.0//EN
CALSCALE:GREGORIAN
METHOD:PUBLISH
X-WR-CALNAME:Coder College
X-ORIGINAL-URL:https://codercollege.com.au
X-WR-CALDESC:Events for Coder College
BEGIN:VTIMEZONE
TZID:Australia/Hobart
BEGIN:STANDARD
TZOFFSETFROM:+1100
TZOFFSETTO:+1000
TZNAME:AEST
DTSTART:20210403T160000
END:STANDARD
BEGIN:DAYLIGHT
TZOFFSETFROM:+1000
TZOFFSETTO:+1100
TZNAME:AEDT
DTSTART:20211002T160000
END:DAYLIGHT
END:VTIMEZONE
BEGIN:VEVENT
DTSTART;TZID=Australia/Hobart:20210220T143000
DTEND;TZID=Australia/Hobart:20210327T160000
DTSTAMP:20210301T143202
CREATED:20201221T043013Z
LAST-MODIFIED:20210227T045829Z
UID:2345-1613831400-1616860800@codercollege.com.au
SUMMARY:Game Design Intermediate (Saturday) - Term 1 2021 (Coder College)
DESCRIPTION:6 Sessions: 2:30pm to 4:00pm\nLevels Available: Level 1\, Level 2\, Level 3\, Level 4\nNB: This course is open to any student. \nMove away from building basic games with predetermined settings\, and have the opportunity to code more complex games. \nLevels Available: (Each level is a separate enrolment.) \n\n\nLevel 201\nIntroducing the next level of Game Maker Studio 2\, here we explore the text coding and what can be achieved. Through the creation of a top down shooter style game this course focuses on introducing the Game Maker Language.\n\n\n\n\nLevel 202\nHere we continue to develop their knowledge of the Game Maker Language through the creation of and endless runner style game using more complex controls\, gravity\, player tracking\, random spawning etc.\n\n\n\n\nLevel 203\nHere we take things further as we explore the world of RPG style games. Focusing on map creation and layout design this course will really start to bring out the talented game designer in your child.\n\n\n\n\nLevel 204\nHere we continuing building on with the game they started in Level 3. Adding extra parts to their game\, giving it a story-line and focusing on game play\, we examine the story-line of the game and introduce the use of algorithms to assist with planning and designing their own RPG.
URL:https://codercollege.com.au/calendar/gdi2-t1-2021/
LOCATION:Coder College (Hobart)\, Ground Floor\, 32 Patrick Street\, Hobart\, Tas\, 7000\, Australia
CATEGORIES:Game Design Intermediate
ATTACH;FMTTYPE=image/jpeg:https://codercollege.com.au/wp-content/uploads/2019/09/Coder-College-Course-Icon13.jpg
ORGANIZER;CN="Coder%20College%20Pty%20Ltd":MAILTO:hello@codercollege.com.au
END:VEVENT
END:VCALENDAR