BEGIN:VCALENDAR
VERSION:2.0
PRODID:-//Coder College - ECPv5.3.2.1//NONSGML v1.0//EN
CALSCALE:GREGORIAN
METHOD:PUBLISH
X-WR-CALNAME:Coder College
X-ORIGINAL-URL:https://codercollege.com.au
X-WR-CALDESC:Events for Coder College
BEGIN:VTIMEZONE
TZID:Australia/Hobart
BEGIN:STANDARD
TZOFFSETFROM:+1100
TZOFFSETTO:+1000
TZNAME:AEST
DTSTART:20210403T160000
END:STANDARD
BEGIN:DAYLIGHT
TZOFFSETFROM:+1000
TZOFFSETTO:+1100
TZNAME:AEDT
DTSTART:20211002T160000
END:DAYLIGHT
END:VTIMEZONE
BEGIN:VEVENT
DTSTART;TZID=Australia/Hobart:20210803T150000
DTEND;TZID=Australia/Hobart:20210907T163000
DTSTAMP:20210301T141841
CREATED:20201222T032600Z
LAST-MODIFIED:20210120T010259Z
UID:2425-1628002800-1631032200@codercollege.com.au
SUMMARY:Coding with Roblox (Tuesday) - Term 3 2021 (Lauderdale Primary)
DESCRIPTION:6 Sessions: 3:00pm to 4:30pm\nLevels Available: Level 1\, Level 2\nNB: This course is only open to Lauderdale Primary School students \n  \nThrough the creation of games using the Roblox platform kids will have the chance to learn the basics of coding and game design.\n  \nLevels Available: (Each level is a separate enrolment) \n\n\nLevel 101\nIntroducing the basic concepts of coding in a fun and easy to learn format. This course will have your child making their own detailed obstacle course (Obby) in no time.\n\n\n\n\nLevel 102\nThis level is for those who have completed the previous level and have an understanding of Roblox coding basics. In this course will be expanding on their understanding of Roblox through the building of structures\, worlds and creating a spaceship race course.
URL:https://codercollege.com.au/calendar/cwr-lps-2021/
LOCATION:Lauderdale Primary School\, 3 Acton Rd\, Lauderdale\, Tas\, 7021\, Australia
CATEGORIES:Coding with Roblox
ATTACH;FMTTYPE=image/jpeg:https://codercollege.com.au/wp-content/uploads/2019/12/Beginner_Coding_with_Roblox.jpg
ORGANIZER;CN="Coder%20College%20Pty%20Ltd":MAILTO:hello@codercollege.com.au
END:VEVENT
END:VCALENDAR