BEGIN:VCALENDAR
VERSION:2.0
PRODID:-//Coder College - ECPv5.3.2.1//NONSGML v1.0//EN
CALSCALE:GREGORIAN
METHOD:PUBLISH
X-WR-CALNAME:Coder College
X-ORIGINAL-URL:https://codercollege.com.au
X-WR-CALDESC:Events for Coder College
BEGIN:VTIMEZONE
TZID:Australia/Hobart
BEGIN:STANDARD
TZOFFSETFROM:+1100
TZOFFSETTO:+1000
TZNAME:AEST
DTSTART:20210403T160000
END:STANDARD
BEGIN:DAYLIGHT
TZOFFSETFROM:+1000
TZOFFSETTO:+1100
TZNAME:AEDT
DTSTART:20211002T160000
END:DAYLIGHT
END:VTIMEZONE
BEGIN:VEVENT
DTSTART;TZID=Australia/Hobart:20210216T154500
DTEND;TZID=Australia/Hobart:20210323T171500
DTSTAMP:20210301T142216
CREATED:20201221T014624Z
LAST-MODIFIED:20210223T101940Z
UID:2296-1613490300-1616519700@codercollege.com.au
SUMMARY:Coding with Roblox (Tuesday) - Term 1 2021 (Hutchins)
DESCRIPTION:6 Sessions: 3:45pm to 5:15pm\nLevels Available: Level 1\, Level 2\nNB: This course is open to Hutchins students Only \n  \nThrough the creation of games using the Roblox platform kids will have the chance to learn the basics of coding and game design.\n  \nLevels Available: (Each level is a separate enrolment) \n\n\nLevel 101\nIntroducing the basic concepts of coding in a fun and easy to learn format. This course will have your child making their own detailed obstacle course (Obby) in no time.\n\n\n\n\nLevel 102\nThis level is for those who have completed the previous level and have an understanding of Roblox coding basics. In this course will be expanding on their understanding of Roblox through the building of structures\, worlds and creating a spaceship race course.
URL:https://codercollege.com.au/calendar/cwr-hutchins-2021/
LOCATION:Hutchins\, 71 Nelson Rd\, Sandy Bay\, Tasmania\, 7005\, Australia
CATEGORIES:Coding with Roblox
ATTACH;FMTTYPE=image/jpeg:https://codercollege.com.au/wp-content/uploads/2019/12/Beginner_Coding_with_Roblox.jpg
ORGANIZER;CN="Coder%20College%20Pty%20Ltd":MAILTO:hello@codercollege.com.au
GEO:-42.905582;147.329121
X-APPLE-STRUCTURED-LOCATION;VALUE=URI;X-ADDRESS=Hutchins 71 Nelson Rd Sandy Bay Tasmania 7005 Australia;X-APPLE-RADIUS=500;X-TITLE=71 Nelson Rd:geo:147.329121,-42.905582
END:VEVENT
END:VCALENDAR