BEGIN:VCALENDAR
VERSION:2.0
PRODID:-//Coder College - ECPv5.3.2.1//NONSGML v1.0//EN
CALSCALE:GREGORIAN
METHOD:PUBLISH
X-WR-CALNAME:Coder College
X-ORIGINAL-URL:https://codercollege.com.au
X-WR-CALDESC:Events for Coder College
BEGIN:VTIMEZONE
TZID:Australia/Hobart
BEGIN:STANDARD
TZOFFSETFROM:+1100
TZOFFSETTO:+1000
TZNAME:AEST
DTSTART:20210403T160000
END:STANDARD
BEGIN:DAYLIGHT
TZOFFSETFROM:+1000
TZOFFSETTO:+1100
TZNAME:AEDT
DTSTART:20211002T160000
END:DAYLIGHT
END:VTIMEZONE
BEGIN:VEVENT
DTSTART;TZID=Australia/Hobart:20210220T143000
DTEND;TZID=Australia/Hobart:20210327T160000
DTSTAMP:20210301T143221
CREATED:20201221T130049Z
LAST-MODIFIED:20210227T045836Z
UID:2363-1613831400-1616860800@codercollege.com.au
SUMMARY:Advanced Game Design (Saturday) - Term 1 2021 (Coder College)
DESCRIPTION:6 Sessions: 2:30pm to 4:00pm\nLevels Available: Level 1\, Level 2\, Level 3\, Level 4\nNB: This course is open to any student. \nLearn one of the premier game development platforms (Unity) and start making 2D\, 3D or even Virtual Reality games.\nLevels Available: (Each level is a separate enrolment.) \n\n\nLevel 301\nIntroducing Unity through fun and challenging tasks. This course focuses on helping them become confident in the software as they create their first 3D game.\n\n\n\n\nLevel 302\nIn this level they will have the opportunity to gain a deeper understanding of the software learn more complex features of the Unity program and create a 3D car racing game (with physics).\n\n\n\n\nLevel 303\nIn this course they will take their gaming design skills to the next level with the introduction of VR game design\, complex events\, and the creation of their first Virtual Reality environment. Build the roller-coaster of your own design and have it travel through a landscape that you created.\n\n\n\n\nLevel 304\nThe final level of out “Advanced Game Design” course\, here they have the opportunity to apply what they have learnt so far though the creation of their very own VR World. They will learn about how to manipulate objects in VR and interact with the environment that they create.
URL:https://codercollege.com.au/calendar/agd-t1-2021/
LOCATION:Coder College (Hobart)\, Ground Floor\, 32 Patrick Street\, Hobart\, Tas\, 7000\, Australia
CATEGORIES:Advanced Game Design
ATTACH;FMTTYPE=image/jpeg:https://codercollege.com.au/wp-content/uploads/2019/09/Coder-College-Course-Icon17.jpg
ORGANIZER;CN="Coder%20College%20Pty%20Ltd":MAILTO:hello@codercollege.com.au
END:VEVENT
END:VCALENDAR