BEGIN:VCALENDAR
VERSION:2.0
PRODID:-//Coder College - ECPv5.3.2.1//NONSGML v1.0//EN
CALSCALE:GREGORIAN
METHOD:PUBLISH
X-WR-CALNAME:Coder College
X-ORIGINAL-URL:https://codercollege.com.au
X-WR-CALDESC:Events for Coder College
BEGIN:VTIMEZONE
TZID:Australia/Hobart
BEGIN:STANDARD
TZOFFSETFROM:+1100
TZOFFSETTO:+1000
TZNAME:AEST
DTSTART:20210403T160000
END:STANDARD
BEGIN:DAYLIGHT
TZOFFSETFROM:+1000
TZOFFSETTO:+1100
TZNAME:AEDT
DTSTART:20211002T160000
END:DAYLIGHT
END:VTIMEZONE
BEGIN:VEVENT
DTSTART;TZID=Australia/Hobart:20210408T090000
DTEND;TZID=Australia/Hobart:20210409T150000
DTSTAMP:20210301T144405
CREATED:20210213T123124Z
LAST-MODIFIED:20210213T123124Z
UID:2716-1617872400-1617980400@codercollege.com.au
SUMMARY:3D Modelling & Design - April School Holidays 2021
DESCRIPTION:2 Full Days: 9:00am to 3:00pm\nNB: This course is open to any student \nThis is the perfect starter course for those interested in creating complex 3D models and learning about 3D animations. \n  \nLevels Available: (Each level is a separate enrolment and takes 2 Full days to complete.) \n\n\n3D Modelling & Design – Level 201\nCovering the basic tools for 3D model design\, here we will have them making their first 3D models in Blender. Starting with the basics of 3D modelling\, students will create a number of 3D models of increasing difficulty and detail.\n\n\n\n\n3D Modelling & Design – Level 202\nHere we continue  to gain a deeper understanding of 3D modelling and what you can do. We cover how to create realistic objects\, cities and worlds through the use of skins\, lighting and animations.\n\n\n\n\n3D Modelling & Design – Level 203\nAs we build on the skills and knowledge gained so far\, we dive further in to 3D Modelling with new challenges such as animations\, animated text and character movements\, just to name a few.\n\n\n\n\n3D Modelling & Design – Level 204\nThe final part of the 3D Modelling & Design levels\, has your child pushing the boundaries of what they have learnt so far. They will be using all the skills they have developed along their journey and applying in the construction of a 3D animated story. By using realistic lighting and animations it is an exciting way in which to wrap up and display what they have learnt throughout the levels.
URL:https://codercollege.com.au/calendar/3dmod-apr2021/
LOCATION:Coder College (Hobart)\, Ground Floor\, 32 Patrick Street\, Hobart\, Tas\, 7000\, Australia
CATEGORIES:3D Modelling & Design
ATTACH;FMTTYPE=image/jpeg:https://codercollege.com.au/wp-content/uploads/2019/09/Coder-College-Course-Icon16.jpg
ORGANIZER;CN="Coder%20College%20Pty%20Ltd":MAILTO:hello@codercollege.com.au
END:VEVENT
END:VCALENDAR